BEGIN:VCALENDAR
VERSION:2.0
PRODID:-//Wereldwinkel Tiel - ECPv6.15.20//NONSGML v1.0//EN
CALSCALE:GREGORIAN
METHOD:PUBLISH
X-WR-CALNAME:Wereldwinkel Tiel
X-ORIGINAL-URL:https://www.wereldwinkeltiel.nl
X-WR-CALDESC:Evenementen voor Wereldwinkel Tiel
REFRESH-INTERVAL;VALUE=DURATION:PT1H
X-Robots-Tag:noindex
X-PUBLISHED-TTL:PT1H
BEGIN:VTIMEZONE
TZID:Europe/Paris
BEGIN:DAYLIGHT
TZOFFSETFROM:+0100
TZOFFSETTO:+0200
TZNAME:CEST
DTSTART:20250330T010000
END:DAYLIGHT
BEGIN:STANDARD
TZOFFSETFROM:+0200
TZOFFSETTO:+0100
TZNAME:CET
DTSTART:20251026T010000
END:STANDARD
BEGIN:DAYLIGHT
TZOFFSETFROM:+0100
TZOFFSETTO:+0200
TZNAME:CEST
DTSTART:20260329T010000
END:DAYLIGHT
BEGIN:STANDARD
TZOFFSETFROM:+0200
TZOFFSETTO:+0100
TZNAME:CET
DTSTART:20261025T010000
END:STANDARD
BEGIN:DAYLIGHT
TZOFFSETFROM:+0100
TZOFFSETTO:+0200
TZNAME:CEST
DTSTART:20270328T010000
END:DAYLIGHT
BEGIN:STANDARD
TZOFFSETFROM:+0200
TZOFFSETTO:+0100
TZNAME:CET
DTSTART:20271031T010000
END:STANDARD
END:VTIMEZONE
BEGIN:VEVENT
DTSTART;VALUE=DATE:20260411
DTEND;VALUE=DATE:20260412
DTSTAMP:20260423T204311
CREATED:20260302T091617Z
LAST-MODIFIED:20260302T091644Z
UID:16999-1775865600-1775951999@www.wereldwinkeltiel.nl
SUMMARY:Betuwse Bloesemtocht
DESCRIPTION:De Betuwse Bloesemtocht is hét wandelevenement van het voorjaar. Op zaterdag 11 april 2026 wandel je dwars door de bloeiende boomgaarden van de Betuwe op plaatsen waar je normaliter niet kan komen. Over dijken\, langs de Linge en door gastvrije dorpen vol sfeer\, muziek en foodtrucks. Kies je afstand: 9\, 15\, 27 of 40 kilometer en beleef de Betuwe op z’n mooist!
URL:https://www.wereldwinkeltiel.nl/event/betuwse-bloesemtocht/
LOCATION:Wereldwinkel Tiel\, Weerstraat 10\, Tiel\, Gelderland\, 4001LD\, Netherlands
ATTACH;FMTTYPE=image/png:https://www.wereldwinkeltiel.nl/wp-content/uploads/2026/03/2026-03-02-10_14_28-De-Betuwse-Bloesemtocht-_-Visit-Tiel-—-Mozilla-Firefox.png
END:VEVENT
END:VCALENDAR