BEGIN:VCALENDAR
VERSION:2.0
PRODID:-//Wereldwinkel Tiel - ECPv6.15.20//NONSGML v1.0//EN
CALSCALE:GREGORIAN
METHOD:PUBLISH
X-WR-CALNAME:Wereldwinkel Tiel
X-ORIGINAL-URL:https://www.wereldwinkeltiel.nl
X-WR-CALDESC:Evenementen voor Wereldwinkel Tiel
REFRESH-INTERVAL;VALUE=DURATION:PT1H
X-Robots-Tag:noindex
X-PUBLISHED-TTL:PT1H
BEGIN:VTIMEZONE
TZID:Europe/Paris
BEGIN:DAYLIGHT
TZOFFSETFROM:+0100
TZOFFSETTO:+0200
TZNAME:CEST
DTSTART:20250330T010000
END:DAYLIGHT
BEGIN:STANDARD
TZOFFSETFROM:+0200
TZOFFSETTO:+0100
TZNAME:CET
DTSTART:20251026T010000
END:STANDARD
BEGIN:DAYLIGHT
TZOFFSETFROM:+0100
TZOFFSETTO:+0200
TZNAME:CEST
DTSTART:20260329T010000
END:DAYLIGHT
BEGIN:STANDARD
TZOFFSETFROM:+0200
TZOFFSETTO:+0100
TZNAME:CET
DTSTART:20261025T010000
END:STANDARD
BEGIN:DAYLIGHT
TZOFFSETFROM:+0100
TZOFFSETTO:+0200
TZNAME:CEST
DTSTART:20270328T010000
END:DAYLIGHT
BEGIN:STANDARD
TZOFFSETFROM:+0200
TZOFFSETTO:+0100
TZNAME:CET
DTSTART:20271031T010000
END:STANDARD
END:VTIMEZONE
BEGIN:VEVENT
DTSTART;VALUE=DATE:20260227
DTEND;VALUE=DATE:20260329
DTSTAMP:20260423T222414
CREATED:20260221T125208Z
LAST-MODIFIED:20260222T141615Z
UID:16860-1772150400-1774742399@www.wereldwinkeltiel.nl
SUMMARY:Jubileumjaar: 6000 Jaar Tiel
DESCRIPTION:Jubileumjaar: 6000 Jaar Tiel Experience (27 feb – 28 mrt 2026): Immersive licht- en geluidsshow in de St. Maartenskerk.\n\n6000 jaar Tiel Experience
URL:https://www.wereldwinkeltiel.nl/event/jubileumjaar-6000-jaar-tiel/
LOCATION:St. Maartenskerk\, kerkplein 3\, tiel\, Netherlands
ATTACH;FMTTYPE=image/png:https://www.wereldwinkeltiel.nl/wp-content/uploads/2026/02/6000-jaartiel-2.png
END:VEVENT
BEGIN:VEVENT
DTSTART;VALUE=DATE:20260313
DTEND;VALUE=DATE:20260315
DTSTAMP:20260423T222414
CREATED:20260222T134302Z
LAST-MODIFIED:20260222T142620Z
UID:16882-1773360000-1773532799@www.wereldwinkeltiel.nl
SUMMARY:NLdoet
DESCRIPTION:Het Oranje Fonds organiseert op vrijdag 13 en zaterdag 14 maart 2026\, samen met duizenden organisaties in het land\, weer NLdoet; de grootste vrijwilligersactie van Nederland. NLdoet zet vrijwilligerswerk in de spotlights en nodigt iedereen uit om een dagje de handen uit de mouwen te steken. Ook in Tiel. \nMeedoen?  \nNL Doet
URL:https://www.wereldwinkeltiel.nl/event/nldoet/
LOCATION:Wereldwinkel Tiel\, Weerstraat 10\, Tiel\, Gelderland\, 4001LD\, Netherlands
ATTACH;FMTTYPE=image/png:https://www.wereldwinkeltiel.nl/wp-content/uploads/2026/02/2026-02-22-14_42_00-NL-Doet-_-Visit-Tiel-—-Mozilla-Firefox-1.png
END:VEVENT
END:VCALENDAR