BEGIN:VCALENDAR
VERSION:2.0
PRODID:-//Wereldwinkel Tiel - ECPv6.15.20//NONSGML v1.0//EN
CALSCALE:GREGORIAN
METHOD:PUBLISH
X-WR-CALNAME:Wereldwinkel Tiel
X-ORIGINAL-URL:https://www.wereldwinkeltiel.nl
X-WR-CALDESC:Evenementen voor Wereldwinkel Tiel
REFRESH-INTERVAL;VALUE=DURATION:PT1H
X-Robots-Tag:noindex
X-PUBLISHED-TTL:PT1H
BEGIN:VTIMEZONE
TZID:Europe/Paris
BEGIN:DAYLIGHT
TZOFFSETFROM:+0100
TZOFFSETTO:+0200
TZNAME:CEST
DTSTART:20250330T010000
END:DAYLIGHT
BEGIN:STANDARD
TZOFFSETFROM:+0200
TZOFFSETTO:+0100
TZNAME:CET
DTSTART:20251026T010000
END:STANDARD
BEGIN:DAYLIGHT
TZOFFSETFROM:+0100
TZOFFSETTO:+0200
TZNAME:CEST
DTSTART:20260329T010000
END:DAYLIGHT
BEGIN:STANDARD
TZOFFSETFROM:+0200
TZOFFSETTO:+0100
TZNAME:CET
DTSTART:20261025T010000
END:STANDARD
BEGIN:DAYLIGHT
TZOFFSETFROM:+0100
TZOFFSETTO:+0200
TZNAME:CEST
DTSTART:20270328T010000
END:DAYLIGHT
BEGIN:STANDARD
TZOFFSETFROM:+0200
TZOFFSETTO:+0100
TZNAME:CET
DTSTART:20271031T010000
END:STANDARD
END:VTIMEZONE
BEGIN:VEVENT
DTSTART;TZID=Europe/Paris:20260201T123000
DTEND;TZID=Europe/Paris:20260201T163000
DTSTAMP:20260424T005616
CREATED:20260113T102444Z
LAST-MODIFIED:20260113T123524Z
UID:16600-1769949000-1769963400@www.wereldwinkeltiel.nl
SUMMARY:Gluren bij de buren - Wereldwinkel Tiel
DESCRIPTION:Klik hier voor meer informatie \nDe betoverende klanken van de lier raken uw ziel\n \nWeerstraat 10\nTiel \nWelkom geheten door: Collega’s van de Wereldwinkel Tiel \n12:45 uur\n14:15 uur\n15:45 uur
URL:https://www.wereldwinkeltiel.nl/event/gluren-bij-de-buren-wereldwinkel-tiel/
LOCATION:Wereldwinkel Tiel\, Weerstraat 10\, Tiel\, Gelderland\, 4001LD\, Netherlands
ATTACH;FMTTYPE=image/png:https://www.wereldwinkeltiel.nl/wp-content/uploads/2026/01/logoglurenburen.png
END:VEVENT
END:VCALENDAR